BEGIN:VCALENDAR
VERSION:2.0
PRODID:-//Bahamas GGYA - ECPv6.15.17.1//NONSGML v1.0//EN
CALSCALE:GREGORIAN
METHOD:PUBLISH
X-WR-CALNAME:Bahamas GGYA
X-ORIGINAL-URL:https://bahamasggya.org
X-WR-CALDESC:Events for Bahamas GGYA
REFRESH-INTERVAL;VALUE=DURATION:PT1H
X-Robots-Tag:noindex
X-PUBLISHED-TTL:PT1H
BEGIN:VTIMEZONE
TZID:America/Nassau
BEGIN:DAYLIGHT
TZOFFSETFROM:-0500
TZOFFSETTO:-0400
TZNAME:EDT
DTSTART:20240310T070000
END:DAYLIGHT
BEGIN:STANDARD
TZOFFSETFROM:-0400
TZOFFSETTO:-0500
TZNAME:EST
DTSTART:20241103T060000
END:STANDARD
BEGIN:DAYLIGHT
TZOFFSETFROM:-0500
TZOFFSETTO:-0400
TZNAME:EDT
DTSTART:20250309T070000
END:DAYLIGHT
BEGIN:STANDARD
TZOFFSETFROM:-0400
TZOFFSETTO:-0500
TZNAME:EST
DTSTART:20251102T060000
END:STANDARD
BEGIN:DAYLIGHT
TZOFFSETFROM:-0500
TZOFFSETTO:-0400
TZNAME:EDT
DTSTART:20260308T070000
END:DAYLIGHT
BEGIN:STANDARD
TZOFFSETFROM:-0400
TZOFFSETTO:-0500
TZNAME:EST
DTSTART:20261101T060000
END:STANDARD
END:VTIMEZONE
BEGIN:VEVENT
DTSTART;TZID=America/Nassau:20251024T080000
DTEND;TZID=America/Nassau:20251024T170000
DTSTAMP:20260424T043058
CREATED:20250505T203549Z
LAST-MODIFIED:20250505T203549Z
UID:3152-1761292800-1761325200@bahamasggya.org
SUMMARY:DEADLINE  for GOLD AWARDS submission.
DESCRIPTION:
URL:https://bahamasggya.org/event/deadline-for-gold-awards-submission/
CATEGORIES:Announcements
END:VEVENT
BEGIN:VEVENT
DTSTART;TZID=America/Nassau:20251024T080000
DTEND;TZID=America/Nassau:20251024T170000
DTSTAMP:20260424T043058
CREATED:20250505T203630Z
LAST-MODIFIED:20250505T203630Z
UID:3154-1761292800-1761325200@bahamasggya.org
SUMMARY:Deposit due for BQ/SQ/GP - $30
DESCRIPTION:
URL:https://bahamasggya.org/event/deposit-due-for-bq-sq-gp-30/
CATEGORIES:Announcements
END:VEVENT
BEGIN:VEVENT
DTSTART;TZID=America/Nassau:20251031T080000
DTEND;TZID=America/Nassau:20251031T170000
DTSTAMP:20260424T043058
CREATED:20250505T203815Z
LAST-MODIFIED:20250505T203815Z
UID:3158-1761897600-1761930000@bahamasggya.org
SUMMARY:Deadline for Gold Award submission corrections.
DESCRIPTION:
URL:https://bahamasggya.org/event/deadline-for-gold-award-submission-corrections/
CATEGORIES:Announcements
END:VEVENT
END:VCALENDAR