BEGIN:VCALENDAR
VERSION:2.0
PRODID:-//Bahamas GGYA - ECPv6.15.17.1//NONSGML v1.0//EN
CALSCALE:GREGORIAN
METHOD:PUBLISH
X-ORIGINAL-URL:https://bahamasggya.org
X-WR-CALDESC:Events for Bahamas GGYA
REFRESH-INTERVAL;VALUE=DURATION:PT1H
X-Robots-Tag:noindex
X-PUBLISHED-TTL:PT1H
BEGIN:VTIMEZONE
TZID:America/Nassau
BEGIN:DAYLIGHT
TZOFFSETFROM:-0500
TZOFFSETTO:-0400
TZNAME:EDT
DTSTART:20240310T070000
END:DAYLIGHT
BEGIN:STANDARD
TZOFFSETFROM:-0400
TZOFFSETTO:-0500
TZNAME:EST
DTSTART:20241103T060000
END:STANDARD
BEGIN:DAYLIGHT
TZOFFSETFROM:-0500
TZOFFSETTO:-0400
TZNAME:EDT
DTSTART:20250309T070000
END:DAYLIGHT
BEGIN:STANDARD
TZOFFSETFROM:-0400
TZOFFSETTO:-0500
TZNAME:EST
DTSTART:20251102T060000
END:STANDARD
BEGIN:DAYLIGHT
TZOFFSETFROM:-0500
TZOFFSETTO:-0400
TZNAME:EDT
DTSTART:20260308T070000
END:DAYLIGHT
BEGIN:STANDARD
TZOFFSETFROM:-0400
TZOFFSETTO:-0500
TZNAME:EST
DTSTART:20261101T060000
END:STANDARD
END:VTIMEZONE
BEGIN:VEVENT
DTSTART;TZID=America/Nassau:20251031T080000
DTEND;TZID=America/Nassau:20251031T170000
DTSTAMP:20260421T213428
CREATED:20250505T203815Z
LAST-MODIFIED:20250505T203815Z
UID:3158-1761897600-1761930000@bahamasggya.org
SUMMARY:Deadline for Gold Award submission corrections.
DESCRIPTION:
URL:https://bahamasggya.org/event/deadline-for-gold-award-submission-corrections/
CATEGORIES:Announcements
END:VEVENT
BEGIN:VEVENT
DTSTART;TZID=America/Nassau:20251024T080000
DTEND;TZID=America/Nassau:20251024T170000
DTSTAMP:20260421T213428
CREATED:20250505T203630Z
LAST-MODIFIED:20250505T203630Z
UID:3154-1761292800-1761325200@bahamasggya.org
SUMMARY:Deposit due for BQ/SQ/GP - $30
DESCRIPTION:
URL:https://bahamasggya.org/event/deposit-due-for-bq-sq-gp-30/
CATEGORIES:Announcements
END:VEVENT
BEGIN:VEVENT
DTSTART;TZID=America/Nassau:20251024T080000
DTEND;TZID=America/Nassau:20251024T170000
DTSTAMP:20260421T213428
CREATED:20250505T203549Z
LAST-MODIFIED:20250505T203549Z
UID:3152-1761292800-1761325200@bahamasggya.org
SUMMARY:DEADLINE  for GOLD AWARDS submission.
DESCRIPTION:
URL:https://bahamasggya.org/event/deadline-for-gold-awards-submission/
CATEGORIES:Announcements
END:VEVENT
BEGIN:VEVENT
DTSTART;VALUE=DATE:20250916
DTEND;VALUE=DATE:20250918
DTSTAMP:20260421T213428
CREATED:20250505T202417Z
LAST-MODIFIED:20250505T202417Z
UID:3126-1757980800-1758153599@bahamasggya.org
SUMMARY:Grand Bahama Unit Visits
DESCRIPTION:
URL:https://bahamasggya.org/event/grand-bahama-unit-visits/
CATEGORIES:Announcements
END:VEVENT
BEGIN:VEVENT
DTSTART;VALUE=DATE:20250620
DTEND;VALUE=DATE:20250621
DTSTAMP:20260421T213428
CREATED:20250505T200814Z
LAST-MODIFIED:20250505T201538Z
UID:3107-1750377600-1750463999@bahamasggya.org
SUMMARY:BASE 2025 FINAL PAYMENT DUE
DESCRIPTION:
URL:https://bahamasggya.org/event/base-2025-final-payment-due/
CATEGORIES:Announcements
END:VEVENT
BEGIN:VEVENT
DTSTART;VALUE=DATE:20250516
DTEND;VALUE=DATE:20250517
DTSTAMP:20260421T213428
CREATED:20250318T192057Z
LAST-MODIFIED:20250318T192057Z
UID:3078-1747353600-1747439999@bahamasggya.org
SUMMARY:Deadline for Award Submissions Corrections
DESCRIPTION:
URL:https://bahamasggya.org/event/deadline-for-award-submissions-corrections/
CATEGORIES:Announcements
END:VEVENT
BEGIN:VEVENT
DTSTART;VALUE=DATE:20250509
DTEND;VALUE=DATE:20250510
DTSTAMP:20260421T213428
CREATED:20250318T191652Z
LAST-MODIFIED:20250318T191652Z
UID:3074-1746748800-1746835199@bahamasggya.org
SUMMARY:Deadline for Award Submissions
DESCRIPTION:
URL:https://bahamasggya.org/event/deadline-for-award-submissions/
CATEGORIES:Announcements
END:VEVENT
BEGIN:VEVENT
DTSTART;TZID=America/Nassau:20250416T130000
DTEND;TZID=America/Nassau:20250422T090000
DTSTAMP:20260421T213428
CREATED:20250318T185837Z
LAST-MODIFIED:20250318T185839Z
UID:3061-1744808400-1745312400@bahamasggya.org
SUMMARY:Easter Break - Office Closed
DESCRIPTION:
URL:https://bahamasggya.org/event/easter-break-office-closed/
CATEGORIES:Announcements
END:VEVENT
BEGIN:VEVENT
DTSTART;VALUE=DATE:20250411
DTEND;VALUE=DATE:20250412
DTSTAMP:20260421T213428
CREATED:20250318T185649Z
LAST-MODIFIED:20250318T185853Z
UID:3059-1744329600-1744415999@bahamasggya.org
SUMMARY:Deposit due for BQ for New Providence Units. $30
DESCRIPTION:
URL:https://bahamasggya.org/event/deposit-due-for-bq-for-new-providence-units-30/
CATEGORIES:Announcements
END:VEVENT
END:VCALENDAR