BEGIN:VCALENDAR
VERSION:2.0
PRODID:-//Bahamas GGYA - ECPv6.15.17.1//NONSGML v1.0//EN
CALSCALE:GREGORIAN
METHOD:PUBLISH
X-ORIGINAL-URL:https://bahamasggya.org
X-WR-CALDESC:Events for Bahamas GGYA
REFRESH-INTERVAL;VALUE=DURATION:PT1H
X-Robots-Tag:noindex
X-PUBLISHED-TTL:PT1H
BEGIN:VTIMEZONE
TZID:America/Nassau
BEGIN:DAYLIGHT
TZOFFSETFROM:-0500
TZOFFSETTO:-0400
TZNAME:EDT
DTSTART:20250309T070000
END:DAYLIGHT
BEGIN:STANDARD
TZOFFSETFROM:-0400
TZOFFSETTO:-0500
TZNAME:EST
DTSTART:20251102T060000
END:STANDARD
BEGIN:DAYLIGHT
TZOFFSETFROM:-0500
TZOFFSETTO:-0400
TZNAME:EDT
DTSTART:20260308T070000
END:DAYLIGHT
BEGIN:STANDARD
TZOFFSETFROM:-0400
TZOFFSETTO:-0500
TZNAME:EST
DTSTART:20261101T060000
END:STANDARD
BEGIN:DAYLIGHT
TZOFFSETFROM:-0500
TZOFFSETTO:-0400
TZNAME:EDT
DTSTART:20270314T070000
END:DAYLIGHT
BEGIN:STANDARD
TZOFFSETFROM:-0400
TZOFFSETTO:-0500
TZNAME:EST
DTSTART:20271107T060000
END:STANDARD
END:VTIMEZONE
BEGIN:VEVENT
DTSTART;TZID=America/Nassau:20260206T090000
DTEND;TZID=America/Nassau:20260206T170000
DTSTAMP:20260421T054313
CREATED:20260206T195454Z
LAST-MODIFIED:20260206T200130Z
UID:3368-1770368400-1770397200@bahamasggya.org
SUMMARY:Deposit due for SQ/GP New Providence Unites - $30
DESCRIPTION:
URL:https://bahamasggya.org/event/deposit-due-for-sq-gp-new-providence-unites-30/
CATEGORIES:Deadlines
END:VEVENT
BEGIN:VEVENT
DTSTART;TZID=America/Nassau:20260206T090000
DTEND;TZID=America/Nassau:20260206T170000
DTSTAMP:20260421T054313
CREATED:20260206T195531Z
LAST-MODIFIED:20260206T200136Z
UID:3370-1770368400-1770397200@bahamasggya.org
SUMMARY:2025 Pictures due for AGM report.
DESCRIPTION:
URL:https://bahamasggya.org/event/2025-pictures-due-for-agm-report/
CATEGORIES:Deadlines
END:VEVENT
BEGIN:VEVENT
DTSTART;TZID=America/Nassau:20260209T080000
DTEND;TZID=America/Nassau:20260209T170000
DTSTAMP:20260421T054313
CREATED:20260206T200056Z
LAST-MODIFIED:20260206T200144Z
UID:3378-1770624000-1770656400@bahamasggya.org
SUMMARY:SQ/GP route cards due in office
DESCRIPTION:
URL:https://bahamasggya.org/event/sq-gp-route-cards-due-in-office/
CATEGORIES:Deadlines
END:VEVENT
BEGIN:VEVENT
DTSTART;TZID=America/Nassau:20260216T080000
DTEND;TZID=America/Nassau:20260216T170000
DTSTAMP:20260421T054313
CREATED:20260206T201620Z
LAST-MODIFIED:20260206T201644Z
UID:3388-1771228800-1771261200@bahamasggya.org
SUMMARY:SQ/GP final payment due.
DESCRIPTION:
URL:https://bahamasggya.org/event/sq-gp-route-cards-due-in-office-2/
CATEGORIES:Deadlines
END:VEVENT
BEGIN:VEVENT
DTSTART;TZID=America/Nassau:20260227T080000
DTEND;TZID=America/Nassau:20260227T170000
DTSTAMP:20260421T054313
CREATED:20260206T201947Z
LAST-MODIFIED:20260206T201947Z
UID:3396-1772179200-1772211600@bahamasggya.org
SUMMARY:BASE 2026deposit due. - $50.00
DESCRIPTION:
URL:https://bahamasggya.org/event/base-2026deposit-due-50-00/
CATEGORIES:Deadlines
END:VEVENT
BEGIN:VEVENT
DTSTART;TZID=America/Nassau:20260227T080000
DTEND;TZID=America/Nassau:20260227T170000
DTSTAMP:20260421T054313
CREATED:20260206T202015Z
LAST-MODIFIED:20260206T202015Z
UID:3398-1772179200-1772211600@bahamasggya.org
SUMMARY:AGM Registration fee due.
DESCRIPTION:
URL:https://bahamasggya.org/event/agm-registration-fee-due/
CATEGORIES:Deadlines
END:VEVENT
END:VCALENDAR