BEGIN:VCALENDAR
VERSION:2.0
PRODID:-//Bahamas GGYA - ECPv6.15.17.1//NONSGML v1.0//EN
CALSCALE:GREGORIAN
METHOD:PUBLISH
X-ORIGINAL-URL:https://bahamasggya.org
X-WR-CALDESC:Events for Bahamas GGYA
REFRESH-INTERVAL;VALUE=DURATION:PT1H
X-Robots-Tag:noindex
X-PUBLISHED-TTL:PT1H
BEGIN:VTIMEZONE
TZID:America/Nassau
BEGIN:DAYLIGHT
TZOFFSETFROM:-0500
TZOFFSETTO:-0400
TZNAME:EDT
DTSTART:20240310T070000
END:DAYLIGHT
BEGIN:STANDARD
TZOFFSETFROM:-0400
TZOFFSETTO:-0500
TZNAME:EST
DTSTART:20241103T060000
END:STANDARD
BEGIN:DAYLIGHT
TZOFFSETFROM:-0500
TZOFFSETTO:-0400
TZNAME:EDT
DTSTART:20250309T070000
END:DAYLIGHT
BEGIN:STANDARD
TZOFFSETFROM:-0400
TZOFFSETTO:-0500
TZNAME:EST
DTSTART:20251102T060000
END:STANDARD
BEGIN:DAYLIGHT
TZOFFSETFROM:-0500
TZOFFSETTO:-0400
TZNAME:EDT
DTSTART:20260308T070000
END:DAYLIGHT
BEGIN:STANDARD
TZOFFSETFROM:-0400
TZOFFSETTO:-0500
TZNAME:EST
DTSTART:20261101T060000
END:STANDARD
BEGIN:DAYLIGHT
TZOFFSETFROM:-0500
TZOFFSETTO:-0400
TZNAME:EDT
DTSTART:20270314T070000
END:DAYLIGHT
BEGIN:STANDARD
TZOFFSETFROM:-0400
TZOFFSETTO:-0500
TZNAME:EST
DTSTART:20271107T060000
END:STANDARD
END:VTIMEZONE
BEGIN:VEVENT
DTSTART;VALUE=DATE:20260206
DTEND;VALUE=DATE:20260209
DTSTAMP:20260421T151027
CREATED:20260206T195951Z
LAST-MODIFIED:20260206T200434Z
UID:3376-1770336000-1770595199@bahamasggya.org
SUMMARY:Sunland Baptist Academy - Bronze P/Silver P
DESCRIPTION:
URL:https://bahamasggya.org/event/sunland-baptist-academy-bronze-p-silver-p/
CATEGORIES:Expeditions
END:VEVENT
BEGIN:VEVENT
DTSTART;VALUE=DATE:20260206
DTEND;VALUE=DATE:20260209
DTSTAMP:20260421T151027
CREATED:20260206T195904Z
LAST-MODIFIED:20260206T200441Z
UID:3374-1770336000-1770595199@bahamasggya.org
SUMMARY:SAC\, C.V. Bethel\, Anatol Rodgers\, ISBET\,  R.M. Bailey - Bronze P/Silver P
DESCRIPTION:
URL:https://bahamasggya.org/event/sac-c-v-bethel-anatol-rodgers-isbet-r-m-bailey-bronze-p-silver-p/
CATEGORIES:Expeditions
END:VEVENT
BEGIN:VEVENT
DTSTART;TZID=America/Nassau:20251128T080000
DTEND;TZID=America/Nassau:20251201T170000
DTSTAMP:20260421T151027
CREATED:20250505T204303Z
LAST-MODIFIED:20250505T204303Z
UID:3170-1764316800-1764608400@bahamasggya.org
SUMMARY:Silver Q/Gold P Expedition/Exploration (GB Units)
DESCRIPTION:
URL:https://bahamasggya.org/event/silver-q-gold-p-expedition-exploration-gb-units/
CATEGORIES:Expeditions
END:VEVENT
BEGIN:VEVENT
DTSTART;TZID=America/Nassau:20251107T080000
DTEND;TZID=America/Nassau:20251109T170000
DTSTAMP:20260421T151027
CREATED:20250505T204005Z
LAST-MODIFIED:20250505T204005Z
UID:3162-1762502400-1762707600@bahamasggya.org
SUMMARY:Bronze Q/Silver Q/Gold P Expeditions - NP units (Eleuthera)
DESCRIPTION:
URL:https://bahamasggya.org/event/bronze-q-silver-q-gold-p-expeditions-np-units-eleuthera/
CATEGORIES:Expeditions
END:VEVENT
BEGIN:VEVENT
DTSTART;TZID=America/Nassau:20251025T080000
DTEND;TZID=America/Nassau:20251026T170000
DTSTAMP:20260421T151027
CREATED:20250505T203737Z
LAST-MODIFIED:20250505T203737Z
UID:3156-1761379200-1761498000@bahamasggya.org
SUMMARY:Bronze Q Expedition (B Units)
DESCRIPTION:
URL:https://bahamasggya.org/event/bronze-q-expedition-b-units/
CATEGORIES:Expeditions
END:VEVENT
BEGIN:VEVENT
DTSTART;VALUE=DATE:20250706
DTEND;VALUE=DATE:20250707
DTSTAMP:20260421T151027
CREATED:20250505T201724Z
LAST-MODIFIED:20250505T201837Z
UID:3115-1751760000-1751846399@bahamasggya.org
SUMMARY:BASE 2025 Ends
DESCRIPTION:
URL:https://bahamasggya.org/event/base-2025-ends/
CATEGORIES:Expeditions
END:VEVENT
BEGIN:VEVENT
DTSTART;VALUE=DATE:20250627
DTEND;VALUE=DATE:20250628
DTSTAMP:20260421T151027
CREATED:20250505T200947Z
LAST-MODIFIED:20250505T201755Z
UID:3111-1750982400-1751068799@bahamasggya.org
SUMMARY:BASE 2025 Silver Q/Gold Q Expedition
DESCRIPTION:
URL:https://bahamasggya.org/event/base-2025-silver-q-gold-q-expedition/
CATEGORIES:Expeditions
END:VEVENT
BEGIN:VEVENT
DTSTART;TZID=America/Nassau:20250502T080000
DTEND;TZID=America/Nassau:20250504T170000
DTSTAMP:20260421T151027
CREATED:20250318T191150Z
LAST-MODIFIED:20250318T191435Z
UID:3072-1746172800-1746378000@bahamasggya.org
SUMMARY:Silver Q/Gold P Expedition (Grand Bahama units)
DESCRIPTION:
URL:https://bahamasggya.org/event/silver-q-gold-p-expedition-grand-bahama-units/
CATEGORIES:Expeditions
END:VEVENT
BEGIN:VEVENT
DTSTART;TZID=America/Nassau:20250425T080000
DTEND;TZID=America/Nassau:20250427T170000
DTSTAMP:20260421T151027
CREATED:20250318T190529Z
LAST-MODIFIED:20250318T190541Z
UID:3067-1745568000-1745773200@bahamasggya.org
SUMMARY:Bronze Q Expedition - New Providence units (Eleuthera)
DESCRIPTION:
URL:https://bahamasggya.org/event/bronze-q-expedition-new-providence-units-eleuthera-2/
LOCATION:Eleuthera
CATEGORIES:Expeditions
END:VEVENT
BEGIN:VEVENT
DTSTART;TZID=America/Nassau:20250321T080000
DTEND;TZID=America/Nassau:20250323T170000
DTSTAMP:20260421T151027
CREATED:20250318T182650Z
LAST-MODIFIED:20250318T183334Z
UID:3045-1742544000-1742749200@bahamasggya.org
SUMMARY:Bronze Q Expedition - New Providence units (Eleuthera)
DESCRIPTION:
URL:https://bahamasggya.org/event/bronze-q-expedition-new-providence-units-eleuthera/
LOCATION:Eleuthera
CATEGORIES:Expeditions
END:VEVENT
END:VCALENDAR