BEGIN:VCALENDAR
VERSION:2.0
PRODID:-//Bahamas GGYA - ECPv6.15.17.1//NONSGML v1.0//EN
CALSCALE:GREGORIAN
METHOD:PUBLISH
X-ORIGINAL-URL:https://bahamasggya.org
X-WR-CALDESC:Events for Bahamas GGYA
REFRESH-INTERVAL;VALUE=DURATION:PT1H
X-Robots-Tag:noindex
X-PUBLISHED-TTL:PT1H
BEGIN:VTIMEZONE
TZID:America/Nassau
BEGIN:DAYLIGHT
TZOFFSETFROM:-0500
TZOFFSETTO:-0400
TZNAME:EDT
DTSTART:20240310T070000
END:DAYLIGHT
BEGIN:STANDARD
TZOFFSETFROM:-0400
TZOFFSETTO:-0500
TZNAME:EST
DTSTART:20241103T060000
END:STANDARD
BEGIN:DAYLIGHT
TZOFFSETFROM:-0500
TZOFFSETTO:-0400
TZNAME:EDT
DTSTART:20250309T070000
END:DAYLIGHT
BEGIN:STANDARD
TZOFFSETFROM:-0400
TZOFFSETTO:-0500
TZNAME:EST
DTSTART:20251102T060000
END:STANDARD
BEGIN:DAYLIGHT
TZOFFSETFROM:-0500
TZOFFSETTO:-0400
TZNAME:EDT
DTSTART:20260308T070000
END:DAYLIGHT
BEGIN:STANDARD
TZOFFSETFROM:-0400
TZOFFSETTO:-0500
TZNAME:EST
DTSTART:20261101T060000
END:STANDARD
END:VTIMEZONE
BEGIN:VEVENT
DTSTART;VALUE=DATE:20251205
DTEND;VALUE=DATE:20251206
DTSTAMP:20260421T212705
CREATED:20250505T204342Z
LAST-MODIFIED:20250505T204342Z
UID:3172-1764892800-1764979199@bahamasggya.org
SUMMARY:International Volunteer Day
DESCRIPTION:
URL:https://bahamasggya.org/event/international-volunteer-day/
CATEGORIES:Observances
END:VEVENT
BEGIN:VEVENT
DTSTART;VALUE=DATE:20250812
DTEND;VALUE=DATE:20250813
DTSTAMP:20260421T212705
CREATED:20250505T202056Z
LAST-MODIFIED:20250505T202056Z
UID:3120-1754956800-1755043199@bahamasggya.org
SUMMARY:International Youth Day
DESCRIPTION:
URL:https://bahamasggya.org/event/international-youth-day/
CATEGORIES:Observances
END:VEVENT
BEGIN:VEVENT
DTSTART;VALUE=DATE:20250610
DTEND;VALUE=DATE:20250611
DTSTAMP:20260421T212705
CREATED:20250610T200513Z
LAST-MODIFIED:20250505T201129Z
UID:3099-1749513600-1749599999@bahamasggya.org
SUMMARY:Founder's  T-shirt Day
DESCRIPTION:
URL:https://bahamasggya.org/event/founders-t-shirt-day/
CATEGORIES:Observances
END:VEVENT
BEGIN:VEVENT
DTSTART;VALUE=DATE:20250422
DTEND;VALUE=DATE:20250423
DTSTAMP:20260421T212705
CREATED:20250318T185958Z
LAST-MODIFIED:20250318T185958Z
UID:3063-1745280000-1745366399@bahamasggya.org
SUMMARY:Earth Day
DESCRIPTION:
URL:https://bahamasggya.org/event/earth-day/
CATEGORIES:Observances
END:VEVENT
END:VCALENDAR