BEGIN:VCALENDAR
VERSION:2.0
PRODID:-//Bahamas GGYA - ECPv6.15.17.1//NONSGML v1.0//EN
CALSCALE:GREGORIAN
METHOD:PUBLISH
X-WR-CALNAME:Bahamas GGYA
X-ORIGINAL-URL:https://bahamasggya.org
X-WR-CALDESC:Events for Bahamas GGYA
REFRESH-INTERVAL;VALUE=DURATION:PT1H
X-Robots-Tag:noindex
X-PUBLISHED-TTL:PT1H
BEGIN:VTIMEZONE
TZID:America/Nassau
BEGIN:DAYLIGHT
TZOFFSETFROM:-0500
TZOFFSETTO:-0400
TZNAME:EDT
DTSTART:20240310T070000
END:DAYLIGHT
BEGIN:STANDARD
TZOFFSETFROM:-0400
TZOFFSETTO:-0500
TZNAME:EST
DTSTART:20241103T060000
END:STANDARD
BEGIN:DAYLIGHT
TZOFFSETFROM:-0500
TZOFFSETTO:-0400
TZNAME:EDT
DTSTART:20250309T070000
END:DAYLIGHT
BEGIN:STANDARD
TZOFFSETFROM:-0400
TZOFFSETTO:-0500
TZNAME:EST
DTSTART:20251102T060000
END:STANDARD
BEGIN:DAYLIGHT
TZOFFSETFROM:-0500
TZOFFSETTO:-0400
TZNAME:EDT
DTSTART:20260308T070000
END:DAYLIGHT
BEGIN:STANDARD
TZOFFSETFROM:-0400
TZOFFSETTO:-0500
TZNAME:EST
DTSTART:20261101T060000
END:STANDARD
BEGIN:DAYLIGHT
TZOFFSETFROM:-0500
TZOFFSETTO:-0400
TZNAME:EDT
DTSTART:20270314T070000
END:DAYLIGHT
BEGIN:STANDARD
TZOFFSETFROM:-0400
TZOFFSETTO:-0500
TZNAME:EST
DTSTART:20271107T060000
END:STANDARD
END:VTIMEZONE
BEGIN:VEVENT
DTSTART;VALUE=DATE:20260401
DTEND;VALUE=DATE:20260408
DTSTAMP:20260421T133343
CREATED:20260206T204143Z
LAST-MODIFIED:20260206T204143Z
UID:3444-1775001600-1775606399@bahamasggya.org
SUMMARY:Office Closed @1pm - Happy Easter
DESCRIPTION:
URL:https://bahamasggya.org/event/office-closed-1pm-happy-easter/
CATEGORIES:Office Closures
END:VEVENT
BEGIN:VEVENT
DTSTART;TZID=America/Nassau:20251222T080000
DTEND;TZID=America/Nassau:20260102T170000
DTSTAMP:20260421T133343
CREATED:20250505T204603Z
LAST-MODIFIED:20250505T204603Z
UID:3178-1766390400-1767373200@bahamasggya.org
SUMMARY:Office Closed - Christmas Holidays
DESCRIPTION:
URL:https://bahamasggya.org/event/office-closed-christmas-holidays/
CATEGORIES:Office Closures
END:VEVENT
BEGIN:VEVENT
DTSTART;TZID=America/Nassau:20250721T080000
DTEND;TZID=America/Nassau:20250804T170000
DTSTAMP:20260421T133343
CREATED:20250505T201941Z
LAST-MODIFIED:20250505T202010Z
UID:3117-1753084800-1754326800@bahamasggya.org
SUMMARY:Office Closed - Vacation
DESCRIPTION:
URL:https://bahamasggya.org/event/office-closed/
CATEGORIES:Office Closures
END:VEVENT
END:VCALENDAR